BEGIN:VCALENDAR
VERSION:2.0
PRODID:-//Festival of Chichester - ECPv6.15.20//NONSGML v1.0//EN
CALSCALE:GREGORIAN
METHOD:PUBLISH
X-ORIGINAL-URL:https://festivalofchichester.co.uk
X-WR-CALDESC:Events for Festival of Chichester
REFRESH-INTERVAL;VALUE=DURATION:PT1H
X-Robots-Tag:noindex
X-PUBLISHED-TTL:PT1H
BEGIN:VTIMEZONE
TZID:Europe/London
BEGIN:DAYLIGHT
TZOFFSETFROM:+0000
TZOFFSETTO:+0100
TZNAME:BST
DTSTART:20250330T010000
END:DAYLIGHT
BEGIN:STANDARD
TZOFFSETFROM:+0100
TZOFFSETTO:+0000
TZNAME:GMT
DTSTART:20251026T010000
END:STANDARD
BEGIN:DAYLIGHT
TZOFFSETFROM:+0000
TZOFFSETTO:+0100
TZNAME:BST
DTSTART:20260329T010000
END:DAYLIGHT
BEGIN:STANDARD
TZOFFSETFROM:+0100
TZOFFSETTO:+0000
TZNAME:GMT
DTSTART:20261025T010000
END:STANDARD
BEGIN:DAYLIGHT
TZOFFSETFROM:+0000
TZOFFSETTO:+0100
TZNAME:BST
DTSTART:20270328T010000
END:DAYLIGHT
BEGIN:STANDARD
TZOFFSETFROM:+0100
TZOFFSETTO:+0000
TZNAME:GMT
DTSTART:20271031T010000
END:STANDARD
END:VTIMEZONE
BEGIN:VEVENT
DTSTART;TZID=Europe/London:20260614T140000
DTEND;TZID=Europe/London:20260614T160000
DTSTAMP:20260426T021119
CREATED:20260106T093930Z
LAST-MODIFIED:20260409T103601Z
UID:10000669-1781445600-1781452800@festivalofchichester.co.uk
SUMMARY:Event M04: Singing in The Bishop's Garden
DESCRIPTION:A celebration of community choral singing. \nChichester is home to a number of community choirs which offer a wide variety of musical genres – traditional and modern folk\, musical theatre\, the great American songbook\, original songs\, classical\, church music\, gospel\, jazz\, pop and everything in between. \nAt this annual event some of these choirs assemble in The Bishop’s Palace Gardens and spend a joyous afternoon sharing their favourite songs\, singing together and inviting anyone present to join in! \nThe setting is stunning and the singing comes from the heart – it’s a great way to spend a Sunny Afternoon (now there’s a song!) \nCome along (it’s free)\, bring your folding chair and enjoy listening to the community choirs of Chichester. It’s a beautiful event. Oh – and be prepared to sing!
URL:https://festivalofchichester.co.uk/event/event-m04-singing-in-the-bishops-garden/
LOCATION:Bishop’s Palace Gardens\, 4 Canon Street\, Chichester\, PO19 1PX
CATEGORIES:Music
ATTACH;FMTTYPE=image/jpeg:https://festivalofchichester.co.uk/wp-content/uploads/2026/01/IMG_9872-scaled.jpeg
END:VEVENT
BEGIN:VEVENT
DTSTART;TZID=Europe/London:20260614T140000
DTEND;TZID=Europe/London:20260614T160000
DTSTAMP:20260426T021119
CREATED:20260129T164522Z
LAST-MODIFIED:20260423T162758Z
UID:10000262-1781445600-1781452800@festivalofchichester.co.uk
SUMMARY:Event M05: The Sound of Katie Brown
DESCRIPTION:A trio of events featuring live music from soprano\, Katie Brown. Her performances will include multiple genres\, powerful vocals and crowd favourites. She invites you to join her uplifting showcase where there will be something for everyone\, whether it be her music\, great food or even just the bar. \nAn enchanting trio of events at Fernleigh\, where the timeless voice of Katie Brown fills the room with music. Set within this lovely venue\, guests will enjoy a refined atmosphere. Fernleigh’s thoughtfully prepared food and exceptional drinks will be complemented by Katie’s music; creating a unique vibe for each event – rich in sound\, taste\, and ambience. \nTickets are free to reserve\, and any food/drink can be paid for on arrival. \nSunday\, June 14 (14:00-16:00) – Tea and Tunes \nSaturday\, June 27 (19:00-21:00) – Sip and Song \nThursday\, July 9 (18:30-20:30) – Boards and Ballads \nTickets for June 14 and July 9 cost £40\, including either afternoon\ntea (June 14th) or fizz + charcuterie board (July 9th). There’s no cover\ncharge for walk-ins on any of the three events\, subject to available\nspace. \nTo pre-book the £40 package for Sunday June 14 (14:00-16:00) Tea &\nTunes\, please use this link:\nhttps://www.fernleighchichester.co.uk/whats-on/katie-brown-afternoon-tea \nTo pre-book the £40 package for Thursday July 9th (18:30-20:30) Boards &\nBallads (aka Charcuterie & Fizz Night)\, please use this link:\nhttps://www.fernleighchichester.co.uk/whats-on/charcuterie-fizz-night-katie-brown
URL:https://festivalofchichester.co.uk/event/event-m05-the-sound-of-katie-brown/2026-06-14/
LOCATION:Fernleigh\, 40 North Street\, Chichester\, West Sussex\, PO19 1LX\, United Kingdom
CATEGORIES:Music
ATTACH;FMTTYPE=image/png:https://festivalofchichester.co.uk/wp-content/uploads/2026/01/The-Sound-of-Katie-Brown.png
END:VEVENT
BEGIN:VEVENT
DTSTART;TZID=Europe/London:20260614T180000
DTEND;TZID=Europe/London:20260614T203000
DTSTAMP:20260426T021119
CREATED:20260223T172649Z
LAST-MODIFIED:20260423T102014Z
UID:10000708-1781460000-1781469000@festivalofchichester.co.uk
SUMMARY:Event M06: Inspired by Music: Stradivarius Piano Trio
DESCRIPTION:Inspired by Music: Stradivarius Piano Trio perform Ravel’s Piano Trio\, Robert Schumann Piano Trio in D minor Op 63 No.1 together with popular tunes from its international repertoire. They are joined by artist Michael Joseph\, who will present a painting inspired by this evening’s music. \nEnjoy the special experience with a glass of finest sparkling wine by Nyetimber and in the fabulous setting of Great Eartham\, a lovely old Regency house redesigned by Edwin Lutyens at the turn of the last century.
URL:https://festivalofchichester.co.uk/event/event-m06-inspired-by-music-stradivarius-piano-trio/
LOCATION:Great Ballard School\, Eartham\, Great Ballard\, Eartham House\, Chichester\, West Sussex\, PO18 0LR
CATEGORIES:Music
ATTACH;FMTTYPE=image/jpeg:https://festivalofchichester.co.uk/wp-content/uploads/2026/02/Stradivarius-Piano-Trio-painting.jpg
END:VEVENT
END:VCALENDAR