BEGIN:VCALENDAR
VERSION:2.0
PRODID:-//Festival of Chichester - ECPv6.15.20//NONSGML v1.0//EN
CALSCALE:GREGORIAN
METHOD:PUBLISH
X-WR-CALNAME:Festival of Chichester
X-ORIGINAL-URL:https://festivalofchichester.co.uk
X-WR-CALDESC:Events for Festival of Chichester
REFRESH-INTERVAL;VALUE=DURATION:PT1H
X-Robots-Tag:noindex
X-PUBLISHED-TTL:PT1H
BEGIN:VTIMEZONE
TZID:Europe/London
BEGIN:DAYLIGHT
TZOFFSETFROM:+0000
TZOFFSETTO:+0100
TZNAME:BST
DTSTART:20250330T010000
END:DAYLIGHT
BEGIN:STANDARD
TZOFFSETFROM:+0100
TZOFFSETTO:+0000
TZNAME:GMT
DTSTART:20251026T010000
END:STANDARD
BEGIN:DAYLIGHT
TZOFFSETFROM:+0000
TZOFFSETTO:+0100
TZNAME:BST
DTSTART:20260329T010000
END:DAYLIGHT
BEGIN:STANDARD
TZOFFSETFROM:+0100
TZOFFSETTO:+0000
TZNAME:GMT
DTSTART:20261025T010000
END:STANDARD
BEGIN:DAYLIGHT
TZOFFSETFROM:+0000
TZOFFSETTO:+0100
TZNAME:BST
DTSTART:20270328T010000
END:DAYLIGHT
BEGIN:STANDARD
TZOFFSETFROM:+0100
TZOFFSETTO:+0000
TZNAME:GMT
DTSTART:20271031T010000
END:STANDARD
END:VTIMEZONE
BEGIN:VEVENT
DTSTART;TZID=Europe/London:20260620T190000
DTEND;TZID=Europe/London:20260620T203000
DTSTAMP:20260426T020713
CREATED:20260225T121740Z
LAST-MODIFIED:20260409T103558Z
UID:10000742-1781982000-1781987400@festivalofchichester.co.uk
SUMMARY:Event M11: Sogdian Ensemble: Tales of the Silk Road
DESCRIPTION:This performance is a co-creation between Persian traditional music and jazz\, exploring rich cross-cultural dialogues between the electric bass guitar and the kamancheh\, an ancient Persian spike fiddle. The ensemble brings together Saba Safa\, a virtuoso Persian musician\, and Dr Nick Reynolds\, Head of Jazz at Chichester University. \nMaking this debut performance\, the Sogdian Ensemble unites these two accomplished artists in a distinctive and compelling collaboration that celebrates cultural exchange and artistic exploration. The Sogdian Ensemble\, founded in 2025 by artistic director Saba Safa\, draws inspiration from the historic Persian region at the heart of the Silk Road\, which connected East and West.
URL:https://festivalofchichester.co.uk/event/event-m11-sogdian-ensemble-tales-of-the-silk-road/
LOCATION:Chichester City Arts Centre\, Chichester City Arts Centre\, Mount Lane\, Chichester\, PO19 3DQ\, Chichester\, West Sussex\, PO19 3DQ\, United Kingdom
CATEGORIES:Music
ATTACH;FMTTYPE=image/jpeg:https://festivalofchichester.co.uk/wp-content/uploads/2026/02/MG_2421-2-scaled.jpg
END:VEVENT
BEGIN:VEVENT
DTSTART;TZID=Europe/London:20260620T193000
DTEND;TZID=Europe/London:20260620T214500
DTSTAMP:20260426T020713
CREATED:20260104T164649Z
LAST-MODIFIED:20260409T141834Z
UID:10000657-1781983800-1781991900@festivalofchichester.co.uk
SUMMARY:Event M12: Chichester Singers Summer Concert: "My Spirit Sang All Day"
DESCRIPTION:My Spirit Sang All Day – Gerald Finzi\nHoward Goodall – Unconditional Love\nSacred & Secular part songs \nHoward Goodall\, a composer who has become a household name through his TV scores for The Vicar of Dibley\, Blackadder and Mr Bean\, is at heart a choral composer. Unconditional Love was written at the height of the Covid pandemic and is at its core a work of gratitude\, remembrance and of hope for a world rebuilt. Alongside this fine contemporary work are motets and part-songs spanning the 16th to 20th centuries\, the whole programme encapsulated by the title of Gerald Finzi’s little masterpiece My Spirit Sang All Day.
URL:https://festivalofchichester.co.uk/event/event-m12-chichester-singers-summer-concert-my-spirit-sang-all-day/
LOCATION:Chichester Cathedral\, Chichester Cathedral\, Chichester\, West Sussex\, PO19 1PX\, United Kingdom
CATEGORIES:Music
ATTACH;FMTTYPE=image/jpeg:https://festivalofchichester.co.uk/wp-content/uploads/2026/01/IMG_0464-scaled.jpg
END:VEVENT
BEGIN:VEVENT
DTSTART;TZID=Europe/London:20260620T193000
DTEND;TZID=Europe/London:20260620T220000
DTSTAMP:20260426T020713
CREATED:20260217T125529Z
LAST-MODIFIED:20260409T103558Z
UID:10000656-1781983800-1781992800@festivalofchichester.co.uk
SUMMARY:Event M13: Opera Night 2026
DESCRIPTION:Glyndebourne soprano Jennifer Witton\, coloratura soprano Stefanie Kemball-Read\, mezzo soprano Lisa Byrnes\, Swiss tenor Julien L’Hermite\, tenor Phillip O’Brien\, and bass baritone Aidan Smith – an Associate Artist of the Welsh National Opera – and the 60 Minute String Orchestra come together for two hours of opera arias and overtures. \nTickets include a free glass of wine. \nMozart Marriage of Figaro Overture\nAidan Smith Baritone \nGioachino Rossini – la Calunnia from The Barber of Saville\nLisa Byrnes Mezzo Soprano \nGeorge Bizet – Seguidilla from the opera Carmen\nJulien L’Hermite – Guest Tenor from Switzerland \nWolfgang Amadeus Mozart – Dalla sua pace from the opera Don Giovanni\nDuet – Mezzo Soprano-Lisa Byrnes & Soprano – Jennifer Witton \nBarcarolle from Tales of Hoffman – Jacques Offenbach \nFredrick Handel – Queen of Sheba\nGuest Coloratura – Soprano Stefanie Kemball-Read \nBellini – Casta Diva \nVerdi – Phillip O’Brian Tenor \nAh la paterna mano\nJennifer Witton – Mezzo Soprano \nAntonin Dvorak Song to the Moon \nOverture – Gioachino Rossini Barber of Saville\nAidan Smith Baritone \nGioachino Rossini Come un’ or Dandini’s Aria from La Cenerentola\nGuest Coloratura – Soprano Stefanie Kemball-Read \nDomenico Donizetti Cavatina di Norina “Quel guardo il cavaliere”\nAidan Smith – Baritone \nVerdi Egettata la mia sorte from Attila Act 2.2\nLisa Brynes – Mezzo Soprano \nErich Korngold Marietta’s Lied\nPhillip O’Brian – Tenor \nRuggiero Leoncavallo Vesti la giubba \nOverture WA Mozart Magic Flute\nGuest Coloratura – Soprano Stefanie Kemball-Read & Phillip O’Brian – Tenor \nPuccini O Soave Fancivlla\nGiacomo Puccini Crisantemi\nJennifer Witton – Soprano\,Guest Coloratura – Soprano Stefanie Kemball-Read\, Lisa Brynes Mezzo Soprano\, \nPhilip O’Brian Tenor\, Julien L’Hermite – Guest Tenor\, Aidan Smith – Baritone Giuseppe Verdi – The Quartet from the opera Rigoletto \nRoger Clayden & Christopher Taylor
URL:https://festivalofchichester.co.uk/event/event-m13-opera-night-2026/
LOCATION:Jeneses Community Centre\, Bognor\, 45 Linden Rd\, Bognor Regis\, West Sussex\, PO21 2AP\, United Kingdom
CATEGORIES:Music
ATTACH;FMTTYPE=image/jpeg:https://festivalofchichester.co.uk/wp-content/uploads/2026/02/Opera-Night-2022-Trio-with-Lisa-Brynes-Aiden-Smith-Philip-OBrien-scaled.jpg
END:VEVENT
END:VCALENDAR