BEGIN:VCALENDAR
VERSION:2.0
PRODID:-//Festival of Chichester - ECPv6.15.20//NONSGML v1.0//EN
CALSCALE:GREGORIAN
METHOD:PUBLISH
X-WR-CALNAME:Festival of Chichester
X-ORIGINAL-URL:https://festivalofchichester.co.uk
X-WR-CALDESC:Events for Festival of Chichester
REFRESH-INTERVAL;VALUE=DURATION:PT1H
X-Robots-Tag:noindex
X-PUBLISHED-TTL:PT1H
BEGIN:VTIMEZONE
TZID:Europe/London
BEGIN:DAYLIGHT
TZOFFSETFROM:+0000
TZOFFSETTO:+0100
TZNAME:BST
DTSTART:20250330T010000
END:DAYLIGHT
BEGIN:STANDARD
TZOFFSETFROM:+0100
TZOFFSETTO:+0000
TZNAME:GMT
DTSTART:20251026T010000
END:STANDARD
BEGIN:DAYLIGHT
TZOFFSETFROM:+0000
TZOFFSETTO:+0100
TZNAME:BST
DTSTART:20260329T010000
END:DAYLIGHT
BEGIN:STANDARD
TZOFFSETFROM:+0100
TZOFFSETTO:+0000
TZNAME:GMT
DTSTART:20261025T010000
END:STANDARD
BEGIN:DAYLIGHT
TZOFFSETFROM:+0000
TZOFFSETTO:+0100
TZNAME:BST
DTSTART:20270328T010000
END:DAYLIGHT
BEGIN:STANDARD
TZOFFSETFROM:+0100
TZOFFSETTO:+0000
TZNAME:GMT
DTSTART:20271031T010000
END:STANDARD
END:VTIMEZONE
BEGIN:VEVENT
DTSTART;TZID=Europe/London:20260622T193000
DTEND;TZID=Europe/London:20260622T213000
DTSTAMP:20260426T020857
CREATED:20260119T110941Z
LAST-MODIFIED:20260409T103558Z
UID:10000654-1782156600-1782163800@festivalofchichester.co.uk
SUMMARY:Event M15: Sasha's Guitar Legacy
DESCRIPTION:The West Sussex Guitar Orchestra\, directed by Linda Kelsall-Barnett\, is joined by special guest soloists including Amanda Cook and Sam Brown to dedicate an evening of classical guitar to Sasha Levtov\, founder of the West Sussex Guitar Club\, in the wonderful acoustic of St John’s Chapel. \nRenowned classical guitarists Amanda Cook and Sam Brown are both former students of Sasha Levtov and each began their career with the West Sussex Guitar Club\, which he founded in 1993. Sasha sadly passed away in 2025 but he has left a wonderful legacy for the guitar. Come and listen to the guitar in ensemble\, duo and solo in an eclectic mix of atmospheric\, well-loved repertoire.
URL:https://festivalofchichester.co.uk/event/event-m15-sashas-guitar-legacy/
LOCATION:St John’s Chapel\, Chichester\, 5 St John's St\, Chichester\, West Sussex\, PO19 1UR\, United Kingdom
CATEGORIES:Music
ATTACH;FMTTYPE=image/jpeg:https://festivalofchichester.co.uk/wp-content/uploads/2026/01/PXL_20250623_203259679-21-scaled.jpg
ORGANIZER;CN="Linda Kelsall-Barnett":MAILTO:lkelsall.barnett@outlook.com
END:VEVENT
END:VCALENDAR