BEGIN:VCALENDAR
VERSION:2.0
PRODID:-//Festival of Chichester - ECPv6.15.20//NONSGML v1.0//EN
CALSCALE:GREGORIAN
METHOD:PUBLISH
X-WR-CALNAME:Festival of Chichester
X-ORIGINAL-URL:https://festivalofchichester.co.uk
X-WR-CALDESC:Events for Festival of Chichester
REFRESH-INTERVAL;VALUE=DURATION:PT1H
X-Robots-Tag:noindex
X-PUBLISHED-TTL:PT1H
BEGIN:VTIMEZONE
TZID:Europe/London
BEGIN:DAYLIGHT
TZOFFSETFROM:+0000
TZOFFSETTO:+0100
TZNAME:BST
DTSTART:20250330T010000
END:DAYLIGHT
BEGIN:STANDARD
TZOFFSETFROM:+0100
TZOFFSETTO:+0000
TZNAME:GMT
DTSTART:20251026T010000
END:STANDARD
BEGIN:DAYLIGHT
TZOFFSETFROM:+0000
TZOFFSETTO:+0100
TZNAME:BST
DTSTART:20260329T010000
END:DAYLIGHT
BEGIN:STANDARD
TZOFFSETFROM:+0100
TZOFFSETTO:+0000
TZNAME:GMT
DTSTART:20261025T010000
END:STANDARD
BEGIN:DAYLIGHT
TZOFFSETFROM:+0000
TZOFFSETTO:+0100
TZNAME:BST
DTSTART:20270328T010000
END:DAYLIGHT
BEGIN:STANDARD
TZOFFSETFROM:+0100
TZOFFSETTO:+0000
TZNAME:GMT
DTSTART:20271031T010000
END:STANDARD
END:VTIMEZONE
BEGIN:VEVENT
DTSTART;TZID=Europe/London:20260624T183000
DTEND;TZID=Europe/London:20260624T200000
DTSTAMP:20260426T020736
CREATED:20260316T103841Z
LAST-MODIFIED:20260410T045435Z
UID:10001144-1782325800-1782331200@festivalofchichester.co.uk
SUMMARY:Event M17: An Evening of Music Inspired by the European Holocaust
DESCRIPTION:Chichester Holocaust Memorial Day presents Bogdan Vacarescu and Julian Jacobson performing a variety of pieces inspired by or relevant to both Judaism and the European Holocaust. \nBogdan Vacarescu\, a Romanian concert violinist\, and Julian Jacobson\, one of Britain’s most creative and distinctive pianists\, will perform music by composers such as Mendelssohn and Chopin and themes from movies such as Schindler’s List. \nBogdan is a Romanian concert violinist who has toured widely and internationally as a soloist and chamber musician in halls such as Athenaeum in Bucharest and Sydney Opera House. \nJulian Jacobson is one of Britain’s most creative and distinctive pianists . In a career spanning five decades he has performed in more than 40 countries. He is currently a professor of piano and chamber music at the Royal College of Music and also at the Royal Birmingham Conservatoire\, and holds the post Guest Professor at Xiamen University China.
URL:https://festivalofchichester.co.uk/event/event-m17-an-evening-of-music-inspired-by-the-european-holocaust/
LOCATION:Pallant House Gallery\, 9 North Pallant\, Chichester\, West Sussex\, PO19 1TJ\, United Kingdom
CATEGORIES:Music
ATTACH;FMTTYPE=image/jpeg:https://festivalofchichester.co.uk/wp-content/uploads/2026/03/Profile-pictures-of-Julian-Jacobson-and-Bogdan-Vacarescu-1-scaled.jpg
ORGANIZER;CN="Chichester Marks Holocaust Memorial Day":MAILTO:trevorejames@yahoo.co.uk
END:VEVENT
END:VCALENDAR