BEGIN:VCALENDAR
VERSION:2.0
PRODID:-//Festival of Chichester - ECPv6.15.20//NONSGML v1.0//EN
CALSCALE:GREGORIAN
METHOD:PUBLISH
X-WR-CALNAME:Festival of Chichester
X-ORIGINAL-URL:https://festivalofchichester.co.uk
X-WR-CALDESC:Events for Festival of Chichester
REFRESH-INTERVAL;VALUE=DURATION:PT1H
X-Robots-Tag:noindex
X-PUBLISHED-TTL:PT1H
BEGIN:VTIMEZONE
TZID:Europe/London
BEGIN:DAYLIGHT
TZOFFSETFROM:+0000
TZOFFSETTO:+0100
TZNAME:BST
DTSTART:20250330T010000
END:DAYLIGHT
BEGIN:STANDARD
TZOFFSETFROM:+0100
TZOFFSETTO:+0000
TZNAME:GMT
DTSTART:20251026T010000
END:STANDARD
BEGIN:DAYLIGHT
TZOFFSETFROM:+0000
TZOFFSETTO:+0100
TZNAME:BST
DTSTART:20260329T010000
END:DAYLIGHT
BEGIN:STANDARD
TZOFFSETFROM:+0100
TZOFFSETTO:+0000
TZNAME:GMT
DTSTART:20261025T010000
END:STANDARD
BEGIN:DAYLIGHT
TZOFFSETFROM:+0000
TZOFFSETTO:+0100
TZNAME:BST
DTSTART:20270328T010000
END:DAYLIGHT
BEGIN:STANDARD
TZOFFSETFROM:+0100
TZOFFSETTO:+0000
TZNAME:GMT
DTSTART:20271031T010000
END:STANDARD
END:VTIMEZONE
BEGIN:VEVENT
DTSTART;TZID=Europe/London:20260625T193000
DTEND;TZID=Europe/London:20260625T220000
DTSTAMP:20260426T020859
CREATED:20260227T161411Z
LAST-MODIFIED:20260413T220818Z
UID:10000741-1782415800-1782424800@festivalofchichester.co.uk
SUMMARY:Event SW13: Poetry & Jazz Café
DESCRIPTION:Acclaimed poets Kate Noakes and Martyn Crucefix link with Mike Carey’s Big House Jazz ensemble to entertain and inspire. Plus the launch of Poetry & All That Jazz magazine with South Downs poets. Enjoy a delightful mix of words and music with complementary homemade cake. \nBased in Arundel and well-known throughout Sussex and the South\, the Big House Jazz ensemble will be featuring classic jazz by Count Basie and Duke Ellington plus original tunes. Both prizewinning poets will read from their new collections – Kate Noakes\, Sublime Lungs (Two Rivers Press); and Martyn Crucefix: Our Weird Regiment (Shearsman Books).
URL:https://festivalofchichester.co.uk/event/event-sw13-poetry-jazz-cafe/
LOCATION:Assembly Room at the Council House\, Chichester\, The Council House\, North St\, Chichester\, West Sussex\, PO19 1LQ\, United Kingdom
CATEGORIES:Music,Spoken word
ATTACH;FMTTYPE=image/jpeg:https://festivalofchichester.co.uk/wp-content/uploads/2026/02/Kate-Noakes-Poetry-Jazz-26-scaled.jpg
ORGANIZER;CN="South Downs Poetry Festival":MAILTO:southdownspf@gmail.com
END:VEVENT
END:VCALENDAR