BEGIN:VCALENDAR
VERSION:2.0
PRODID:-//Festival of Chichester - ECPv6.15.20//NONSGML v1.0//EN
CALSCALE:GREGORIAN
METHOD:PUBLISH
X-WR-CALNAME:Festival of Chichester
X-ORIGINAL-URL:https://festivalofchichester.co.uk
X-WR-CALDESC:Events for Festival of Chichester
REFRESH-INTERVAL;VALUE=DURATION:PT1H
X-Robots-Tag:noindex
X-PUBLISHED-TTL:PT1H
BEGIN:VTIMEZONE
TZID:Europe/London
BEGIN:DAYLIGHT
TZOFFSETFROM:+0000
TZOFFSETTO:+0100
TZNAME:BST
DTSTART:20250330T010000
END:DAYLIGHT
BEGIN:STANDARD
TZOFFSETFROM:+0100
TZOFFSETTO:+0000
TZNAME:GMT
DTSTART:20251026T010000
END:STANDARD
BEGIN:DAYLIGHT
TZOFFSETFROM:+0000
TZOFFSETTO:+0100
TZNAME:BST
DTSTART:20260329T010000
END:DAYLIGHT
BEGIN:STANDARD
TZOFFSETFROM:+0100
TZOFFSETTO:+0000
TZNAME:GMT
DTSTART:20261025T010000
END:STANDARD
BEGIN:DAYLIGHT
TZOFFSETFROM:+0000
TZOFFSETTO:+0100
TZNAME:BST
DTSTART:20270328T010000
END:DAYLIGHT
BEGIN:STANDARD
TZOFFSETFROM:+0100
TZOFFSETTO:+0000
TZNAME:GMT
DTSTART:20271031T010000
END:STANDARD
END:VTIMEZONE
BEGIN:VEVENT
DTSTART;TZID=Europe/London:20260630T190000
DTEND;TZID=Europe/London:20260630T222000
DTSTAMP:20260426T020714
CREATED:20260409T103554Z
LAST-MODIFIED:20260409T103554Z
UID:10001152-1782846000-1782858000@festivalofchichester.co.uk
SUMMARY:Event M60: Zoe Schwarz and Rob Kora
DESCRIPTION:Zoe Schwarz and Rob Koral – a duo of exceptional quality\, fronted by the stellar vocals of Zoe Schwarz; you really shouldn’t miss the opportunity to enjoy them live. \nUpstairs @ Raps is the brand-new venue in the heart of Chichester. Think cool Soho vibe: Just 50 seats\, table service\, cool jazz and blues providing an intimate soundtrack.\nCheck out our listings for an unforgettable night out of Jazz and Blues in a solo\, Duo and Trio format.
URL:https://festivalofchichester.co.uk/event/event-m60-zoe-schwarz-and-rob-kora/
LOCATION:Upstairs @ Raps\, 30 Southgate\, Chichester\, Chichester\, West Sussex\, PO19 1DP\, United Kingdom
CATEGORIES:Music
ATTACH;FMTTYPE=image/jpeg:https://festivalofchichester.co.uk/wp-content/uploads/2026/03/Zoe-Schwarz-and-Rob-Koral.jpg
END:VEVENT
END:VCALENDAR