BEGIN:VCALENDAR
VERSION:2.0
PRODID:-//Festival of Chichester - ECPv6.15.20//NONSGML v1.0//EN
CALSCALE:GREGORIAN
METHOD:PUBLISH
X-WR-CALNAME:Festival of Chichester
X-ORIGINAL-URL:https://festivalofchichester.co.uk
X-WR-CALDESC:Events for Festival of Chichester
REFRESH-INTERVAL;VALUE=DURATION:PT1H
X-Robots-Tag:noindex
X-PUBLISHED-TTL:PT1H
BEGIN:VTIMEZONE
TZID:Europe/London
BEGIN:DAYLIGHT
TZOFFSETFROM:+0000
TZOFFSETTO:+0100
TZNAME:BST
DTSTART:20250330T010000
END:DAYLIGHT
BEGIN:STANDARD
TZOFFSETFROM:+0100
TZOFFSETTO:+0000
TZNAME:GMT
DTSTART:20251026T010000
END:STANDARD
BEGIN:DAYLIGHT
TZOFFSETFROM:+0000
TZOFFSETTO:+0100
TZNAME:BST
DTSTART:20260329T010000
END:DAYLIGHT
BEGIN:STANDARD
TZOFFSETFROM:+0100
TZOFFSETTO:+0000
TZNAME:GMT
DTSTART:20261025T010000
END:STANDARD
BEGIN:DAYLIGHT
TZOFFSETFROM:+0000
TZOFFSETTO:+0100
TZNAME:BST
DTSTART:20270328T010000
END:DAYLIGHT
BEGIN:STANDARD
TZOFFSETFROM:+0100
TZOFFSETTO:+0000
TZNAME:GMT
DTSTART:20271031T010000
END:STANDARD
END:VTIMEZONE
BEGIN:VEVENT
DTSTART;TZID=Europe/London:20260705T100000
DTEND;TZID=Europe/London:20260705T160000
DTSTAMP:20260426T020833
CREATED:20260125T133836Z
LAST-MODIFIED:20260409T103553Z
UID:10000679-1783245600-1783267200@festivalofchichester.co.uk
SUMMARY:Event M37: Cello Day
DESCRIPTION:Join us for a day of music-making and learning for intermediate-advanced cellists. Prof Laura Ritchie leads the Cello Ensemble; Dr Christine Tokatlian offers workshops working with an accompanist; and Ray Box provides strategies to keep us mentally and physically ready to play. Music is provided. Participants bring their own lunch. \nCello Day Schedule:\n10:00 Arrive\n10:15 Cello Ensemble\n11:45 Working with an accompanist with Dr Christine Tokatlian\n12:30 Lunch (Please bring your lunch)\n1:15 Cello Ensemble\n2:00 Break\n2:15 Healthy Musician with Ray Box\n2:45. Cello Ensemble\n3:30 Final Performance\n3:45 Reflection/Feedback\n4:00 End \nParking Charges at The University of Chichester are:\n£2.10 an hour from 8am – 6pm.\n£1.50 from 6pm until 8am next morning.
URL:https://festivalofchichester.co.uk/event/event-m37-cello-day/
LOCATION:University Chapel (Chapel of the Ascension)\, College Ln\, Chichester\, West Sussex\, PO19 6PE\, United Kingdom
CATEGORIES:Music
ATTACH;FMTTYPE=image/png:https://festivalofchichester.co.uk/wp-content/uploads/2026/01/Cello-Day.png
ORGANIZER;CN="Laura Ritchie":MAILTO:dr.laura.ritchie@gmail.com
END:VEVENT
BEGIN:VEVENT
DTSTART;TZID=Europe/London:20260705T170000
DTEND;TZID=Europe/London:20260705T190000
DTSTAMP:20260426T020833
CREATED:20260203T155603Z
LAST-MODIFIED:20260409T103552Z
UID:10000677-1783270800-1783278000@festivalofchichester.co.uk
SUMMARY:Event M38: Piano Masterclass with Dr Christine Tokatlian
DESCRIPTION:Dr Christine Tokatlian comes to us from Athens\, Greece\, to present this masterclass featuring students and alumni from the University of Chichester Conservatoire. \nChristine Tokatlian is an Associate Professor at Deree – The American College of Greece. A concert pianist praised for her academic distinctions and passionate performance\, she has been awarded the honorary Eleni Myconiou prize for artistic excellence by the Athens Academy (2008). A graduate of RCM\, she has extensively performed in national and international venues and has collaborated with renowned ensembles and orchestras. Her repertoire includes works by classical\, romantic and contemporary composers\, as well as new and experimental music. \nResearch findings of her PhD thesis\, Redefining Armenian Musical Identity (Chichester\, 2023) have been extensively presented in conferences. Her recording Armenian Piano Images (2011) includes works of contemporary Armenian composers. Christine serves as a jury member in national competitions and gives piano masterclasses in Greece and abroad. Her students have been awarded several prizes and distinctions in international piano competitions. She is also active in organising and supervising music festivals and workshops. \nParking Charges at The University of Chichester are:\n£2.10 an hour from 8am – 6pm.\n£1.50 from 6pm until 8am next morning.
URL:https://festivalofchichester.co.uk/event/event-m38-piano-masterclass-with-dr-christine-tokatlian/
LOCATION:University Chapel (Chapel of the Ascension)\, College Ln\, Chichester\, West Sussex\, PO19 6PE\, United Kingdom
CATEGORIES:Music
ATTACH;FMTTYPE=image/png:https://festivalofchichester.co.uk/wp-content/uploads/2026/02/Piano-Masterclass-July2026.png
ORGANIZER;CN="Laura Ritchie":MAILTO:dr.laura.ritchie@gmail.com
END:VEVENT
BEGIN:VEVENT
DTSTART;TZID=Europe/London:20260705T183000
DTEND;TZID=Europe/London:20260705T213000
DTSTAMP:20260426T020833
CREATED:20260114T162056Z
LAST-MODIFIED:20260409T103552Z
UID:10000755-1783276200-1783287000@festivalofchichester.co.uk
SUMMARY:Event M39: Handel's Samson
DESCRIPTION:Portsmouth Choral Union with The Consort of Twelve presents Handel’s Samson\, first performed in Covent Garden\, London in 1743. Renowned for its dramatic power\, magnificent choruses\, expressive solos and intricate orchestration. Come and enjoy this compelling oratorio. Conductor David Gostick. \nHandel composed Samson immediately after Messiah in 1741 but it was not performed until 1743 in London. It proved an instant success and has never fallen entirely out of favour since then. \nSamson is about the biblical judge Samson\, focusing on his betrayal by his Philistine lover Dalila\, who discovers his strength comes from his uncut hair and has it shorn\, leading to his capture\, blinding\, and enslavement by the Philistines.
URL:https://festivalofchichester.co.uk/event/event-m39-handels-samson/
LOCATION:St Paul’s Church\, Chichester\, Churchside\,\, Chichester\, West Sussex\, PO19 6FT\, United Kingdom
CATEGORIES:Music
ATTACH;FMTTYPE=image/jpeg:https://festivalofchichester.co.uk/wp-content/uploads/2026/01/December-2025-1-scaled.jpeg
END:VEVENT
END:VCALENDAR