BEGIN:VCALENDAR
VERSION:2.0
PRODID:-//Festival of Chichester - ECPv6.15.20//NONSGML v1.0//EN
CALSCALE:GREGORIAN
METHOD:PUBLISH
X-WR-CALNAME:Festival of Chichester
X-ORIGINAL-URL:https://festivalofchichester.co.uk
X-WR-CALDESC:Events for Festival of Chichester
REFRESH-INTERVAL;VALUE=DURATION:PT1H
X-Robots-Tag:noindex
X-PUBLISHED-TTL:PT1H
BEGIN:VTIMEZONE
TZID:Europe/London
BEGIN:DAYLIGHT
TZOFFSETFROM:+0000
TZOFFSETTO:+0100
TZNAME:BST
DTSTART:20250330T010000
END:DAYLIGHT
BEGIN:STANDARD
TZOFFSETFROM:+0100
TZOFFSETTO:+0000
TZNAME:GMT
DTSTART:20251026T010000
END:STANDARD
BEGIN:DAYLIGHT
TZOFFSETFROM:+0000
TZOFFSETTO:+0100
TZNAME:BST
DTSTART:20260329T010000
END:DAYLIGHT
BEGIN:STANDARD
TZOFFSETFROM:+0100
TZOFFSETTO:+0000
TZNAME:GMT
DTSTART:20261025T010000
END:STANDARD
BEGIN:DAYLIGHT
TZOFFSETFROM:+0000
TZOFFSETTO:+0100
TZNAME:BST
DTSTART:20270328T010000
END:DAYLIGHT
BEGIN:STANDARD
TZOFFSETFROM:+0100
TZOFFSETTO:+0000
TZNAME:GMT
DTSTART:20271031T010000
END:STANDARD
END:VTIMEZONE
BEGIN:VEVENT
DTSTART;TZID=Europe/London:20260711T190000
DTEND;TZID=Europe/London:20260711T220000
DTSTAMP:20260426T033628
CREATED:20260214T130228Z
LAST-MODIFIED:20260409T103551Z
UID:10000674-1783796400-1783807200@festivalofchichester.co.uk
SUMMARY:Event M43: The Laurel Canyon Experience
DESCRIPTION:Back by popular demand following sold-out shows\, The Laurel Canyon Experience brings the golden harmonies of 60s and 70s California to life. Featuring award-winning performers DiElle\, John Gleadall and Chris Wood\, this enchanting show celebrates songs from Carole King\, James Taylor\, Joni Mitchell\, Crosby\, Stills & Nash and more. The show recreates the rich harmonies\, heartfelt storytelling and sun-soaked sound of Laurel Canyon — the creative hub that gave the world some of its most enduring music. \nAudiences can expect beautifully crafted interpretations of classics by Carole King\, James Taylor\, Joni Mitchell\, Crosby\, Stills & Nash\, The Eagles and more. From intimate acoustic moments to soaring three-part harmonies\, the trio capture the warmth\, authenticity and spirit of an era when lyrics mattered and melodies lingered long after the final note. \nWith stunning musicianship and enchanting live shows\, The Laurel Canyon Experience is more than a tribute — it’s a lovingly curated journey through the songs and stories that defined a generation. The trio’s natural chemistry and heartfelt delivery create an atmosphere that feels both nostalgic and completely alive in the present moment. \nNew songs are added regularly\, meaning no two performances are ever quite the same. Each show offers its own unique blend of timeless favourites and rediscovered gems. \nIf you love harmony-rich classics\, evocative storytelling and music that still stirs the soul decades later\, this is an evening not to be missed.
URL:https://festivalofchichester.co.uk/event/event-m43-the-laurel-canyon-experience/
LOCATION:New Park Centre\, Chichester\, New Park Rd\, Chichester\, West Sussex\, PO19 7XY\, United Kingdom
CATEGORIES:Music
ATTACH;FMTTYPE=image/png:https://festivalofchichester.co.uk/wp-content/uploads/2026/02/Tour-Poster-The-Laurel-Canyon-Experience.png
END:VEVENT
BEGIN:VEVENT
DTSTART;TZID=Europe/London:20260711T193000
DTEND;TZID=Europe/London:20260711T210000
DTSTAMP:20260426T033628
CREATED:20260114T153825Z
LAST-MODIFIED:20260409T103551Z
UID:10000673-1783798200-1783803600@festivalofchichester.co.uk
SUMMARY:Event M44: Alison Pearce - International Soprano
DESCRIPTION:International soprano Alison Pearce presents a programme that includes something for everyone\, from songs introducing Gods\, Goddesses and mortals in love\, through the beauty of nature and wedded bliss to enchanted islands and finishing with fun and frolics! \nPresented as part of the Festival of Chichester. Distinguished international soprano Alison Pearce has enjoyed a distinguished career in opera\, oratorio and recital\, appearing with leading conductors and orchestras around the world and broadcasting on radio and television. She was vocal professor at the Royal Academy of Music between 1996 and 2010 and has given masterclasses and lectures worldwide. Accompanied by Worthing pianist Stewart Taylor.
URL:https://festivalofchichester.co.uk/event/event-m44-alison-pearce-international-soprano/
LOCATION:Christ Church\, Chichester\, Old Market Ave\, Chichester\, West Sussex\, PO19 1SW\, United Kingdom
CATEGORIES:Music
ATTACH;FMTTYPE=image/png:https://festivalofchichester.co.uk/wp-content/uploads/2026/01/alipearce2.png
END:VEVENT
BEGIN:VEVENT
DTSTART;TZID=Europe/London:20260711T193000
DTEND;TZID=Europe/London:20260711T213000
DTSTAMP:20260426T033628
CREATED:20260121T134945Z
LAST-MODIFIED:20260409T141714Z
UID:10000672-1783798200-1783805400@festivalofchichester.co.uk
SUMMARY:Event M45: Chichester Symphony Orchestra Summer Concert
DESCRIPTION:Join us on a musical journey from the very tip of South America to Leipzig in Germany where Schumann’s Symphony No 1 was first performed in March 1841. We break our journey in London where Elgar’s Cello Concerto was premiered in 1919. Our soloist will be the acclaimed Aglaia Carvalho-Dubost. \nSimon Wilkins has conducted Chichester Symphony Orchestra since 2018. He is also an accomplished cellist\, music teacher and composer. He invites us to join with him on a musical journey to the very tip of South America\, and the landscapes of the Tierra del Fuego – literally\, the land of fire. For this composition\, Simon took Latin rhythms and film music as his inspiration. Originally composed some years ago\, it has now been revised and updated for 2026. \nFrom there we head to Leipzig in Germany where Robert Schumann’s Symphony No. 1 was first performed in March 1841\, some six months after Schumann had finally managed to marry his childhood sweetheart\, Clara Wieck. It was to be a fruitful partnership\, even though Clara’s father was bitterly opposed to the marriage. This symphony by Schumann will be the major work in the second half of our concert. \nThe middle work in our concert will be a performance of the Cello Concerto by Edward Elgar. The concerto was composed in the aftermath of World War I while Elgar and his wife were staying at Brinkwells\, their country cottage in Fittleworth\, West Sussex. It is quite different in style from the earlier Violin Concerto and is much more contemplative and elegiac. The concerto was dedicated to Sir Sidney Colvin and his wife – friends of the Elgar’s (Sir Sidney was a curator at the British Museum). \nThe Cello Concerto is one of the most popular today in the international repertoire partly as a result of performances and/or recordings by Jacqueline du Pre\, Mstislav Rostropovich\, Paul Tortelier\, Julian Lloyd-Webber and Sheku Kanneh-Mason. Our own soloist is the already acclaimed Aglaia Carvalho-Dubost who is at the start of her professional career and has already performed at London’s Barbican\, the Royal Albert Hall and Wigmore Hall.
URL:https://festivalofchichester.co.uk/event/event-m45-chichester-symphony-orchestra-summer-concert/
LOCATION:St Paul’s Church\, Chichester\, Churchside\,\, Chichester\, West Sussex\, PO19 6FT\, United Kingdom
CATEGORIES:Music
ATTACH;FMTTYPE=image/jpeg:https://festivalofchichester.co.uk/wp-content/uploads/2026/01/54419390113_d9db480e3f_3k-scaled.jpg
END:VEVENT
BEGIN:VEVENT
DTSTART;TZID=Europe/London:20260711T200000
DTEND;TZID=Europe/London:20260711T220000
DTSTAMP:20260426T033628
CREATED:20260228T165756Z
LAST-MODIFIED:20260409T103551Z
UID:10000757-1783800000-1783807200@festivalofchichester.co.uk
SUMMARY:Event M46: Experiment
DESCRIPTION:An evening of contemporary electronic and live music accompanied by immersive art installations. \nThis event is hosted by the Chichester Creative Partnership as part of the Metanoia Series to provide a platform for established and emerging local performers and artists. \nFree entry.
URL:https://festivalofchichester.co.uk/event/event-m46-experiment/
LOCATION:Old Court Room at  the Council House\, Chichester\, North St\,\, Chichester\, West Sussex\, PO19 1LQ\, United Kingdom
CATEGORIES:Music
ATTACH;FMTTYPE=image/png:https://festivalofchichester.co.uk/wp-content/uploads/2026/02/Experiment-large.png
ORGANIZER;CN="Ben Williams":MAILTO:benwilliams303@gmail.com
END:VEVENT
END:VCALENDAR