BEGIN:VCALENDAR
VERSION:2.0
PRODID:-//Festival of Chichester - ECPv6.15.20//NONSGML v1.0//EN
CALSCALE:GREGORIAN
METHOD:PUBLISH
X-WR-CALNAME:Festival of Chichester
X-ORIGINAL-URL:https://festivalofchichester.co.uk
X-WR-CALDESC:Events for Festival of Chichester
REFRESH-INTERVAL;VALUE=DURATION:PT1H
X-Robots-Tag:noindex
X-PUBLISHED-TTL:PT1H
BEGIN:VTIMEZONE
TZID:Europe/London
BEGIN:DAYLIGHT
TZOFFSETFROM:+0000
TZOFFSETTO:+0100
TZNAME:BST
DTSTART:20250330T010000
END:DAYLIGHT
BEGIN:STANDARD
TZOFFSETFROM:+0100
TZOFFSETTO:+0000
TZNAME:GMT
DTSTART:20251026T010000
END:STANDARD
BEGIN:DAYLIGHT
TZOFFSETFROM:+0000
TZOFFSETTO:+0100
TZNAME:BST
DTSTART:20260329T010000
END:DAYLIGHT
BEGIN:STANDARD
TZOFFSETFROM:+0100
TZOFFSETTO:+0000
TZNAME:GMT
DTSTART:20261025T010000
END:STANDARD
BEGIN:DAYLIGHT
TZOFFSETFROM:+0000
TZOFFSETTO:+0100
TZNAME:BST
DTSTART:20270328T010000
END:DAYLIGHT
BEGIN:STANDARD
TZOFFSETFROM:+0100
TZOFFSETTO:+0000
TZNAME:GMT
DTSTART:20271031T010000
END:STANDARD
END:VTIMEZONE
BEGIN:VEVENT
DTSTART;TZID=Europe/London:20260716T200000
DTEND;TZID=Europe/London:20260716T210000
DTSTAMP:20260426T033609
CREATED:20260227T151705Z
LAST-MODIFIED:20260409T103550Z
UID:10000704-1784232000-1784235600@festivalofchichester.co.uk
SUMMARY:Event M49: Southern Cathedrals Festival Organ Recital: Markus Eichenlaub
DESCRIPTION:Celebrated German organist Markus Eichenlaub (organist\, Heidelberg Jesuit Church) performs in Chichester Cathedral\, playing music by Bach\, Heredia\, Müthel\, Karg-Elert\, Cochereau\, Bossi and Whitlock. Featuring as part of the 2026 Southern Cathedrals Festival.
URL:https://festivalofchichester.co.uk/event/event-m49-southern-cathedrals-festival-organ-recital-markus-eichenlaub/
LOCATION:Chichester Cathedral\, Chichester Cathedral\, Chichester\, West Sussex\, PO19 1PX\, United Kingdom
CATEGORIES:Music
ATTACH;FMTTYPE=image/jpeg:https://festivalofchichester.co.uk/wp-content/uploads/2026/02/E5I0627-scaled.jpg
END:VEVENT
END:VCALENDAR