BEGIN:VCALENDAR
VERSION:2.0
PRODID:-//Festival of Chichester - ECPv6.15.20//NONSGML v1.0//EN
CALSCALE:GREGORIAN
METHOD:PUBLISH
X-ORIGINAL-URL:https://festivalofchichester.co.uk
X-WR-CALDESC:Events for Festival of Chichester
REFRESH-INTERVAL;VALUE=DURATION:PT1H
X-Robots-Tag:noindex
X-PUBLISHED-TTL:PT1H
BEGIN:VTIMEZONE
TZID:Europe/London
BEGIN:DAYLIGHT
TZOFFSETFROM:+0000
TZOFFSETTO:+0100
TZNAME:BST
DTSTART:20250330T010000
END:DAYLIGHT
BEGIN:STANDARD
TZOFFSETFROM:+0100
TZOFFSETTO:+0000
TZNAME:GMT
DTSTART:20251026T010000
END:STANDARD
BEGIN:DAYLIGHT
TZOFFSETFROM:+0000
TZOFFSETTO:+0100
TZNAME:BST
DTSTART:20260329T010000
END:DAYLIGHT
BEGIN:STANDARD
TZOFFSETFROM:+0100
TZOFFSETTO:+0000
TZNAME:GMT
DTSTART:20261025T010000
END:STANDARD
BEGIN:DAYLIGHT
TZOFFSETFROM:+0000
TZOFFSETTO:+0100
TZNAME:BST
DTSTART:20270328T010000
END:DAYLIGHT
BEGIN:STANDARD
TZOFFSETFROM:+0100
TZOFFSETTO:+0000
TZNAME:GMT
DTSTART:20271031T010000
END:STANDARD
END:VTIMEZONE
BEGIN:VEVENT
DTSTART;TZID=Europe/London:20260718T193000
DTEND;TZID=Europe/London:20260718T210000
DTSTAMP:20260420T022611
CREATED:20251201T063835Z
LAST-MODIFIED:20260409T103548Z
UID:10000660-1784403000-1784408400@festivalofchichester.co.uk
SUMMARY:Event M57: Songs of Hope: 50th anniversary concert at Boxgrove Priory Church
DESCRIPTION:The Renaissance Choir is celebrating its 50th anniversary in 2026. We will be putting on a series of special concerts. The repertoire for this concert will include examples of the choir’s development over its life\, including: \nPoulenc – Gloria\nBach – Komm\, Jesu\, komm\nByrd – Ne Irascaris\nByrd – Laudibus in Sanctis\nMacMillan – Miserere
URL:https://festivalofchichester.co.uk/event/event-m57-songs-of-hope-50th-anniversary-concert-at-boxgrove-priory-church/
LOCATION:Boxgrove Priory Church\, Church Ln\, Boxgrove\, Chichester\, West Sussex\, PO18 0EE\, United Kingdom
CATEGORIES:Music
ATTACH;FMTTYPE=image/jpeg:https://festivalofchichester.co.uk/wp-content/uploads/2025/12/2024-10-Renaissance-Choir-Douai-scaled.jpg
END:VEVENT
BEGIN:VEVENT
DTSTART;TZID=Europe/London:20260718T193000
DTEND;TZID=Europe/London:20260718T223000
DTSTAMP:20260420T022611
CREATED:20260216T194614Z
LAST-MODIFIED:20260409T103548Z
UID:10000743-1784403000-1784413800@festivalofchichester.co.uk
SUMMARY:Event M58: Summer Soul
DESCRIPTION:Somerstown Soul play the music of artists including James Brown\, The Temptations\, Martha and the Vandellas\, Wilson Pickett\, The Supremes\, Sam and Dave and many others from the classic Stax and Motown labels. We’ll have you out of your seat moving to the rhythm of your favourite soul numbers.
URL:https://festivalofchichester.co.uk/event/event-m58-summer-soul/
LOCATION:Fishbourne Centre\, 46 Blackboy Lane\, Chichester\, West Sussex\, PO18 8BE\, United Kingdom
CATEGORIES:Music
ATTACH;FMTTYPE=image/jpeg:https://festivalofchichester.co.uk/wp-content/uploads/2026/02/IMG_3011.jpeg
END:VEVENT
END:VCALENDAR