BEGIN:VCALENDAR
VERSION:2.0
PRODID:-//Festival of Chichester - ECPv6.15.20//NONSGML v1.0//EN
CALSCALE:GREGORIAN
METHOD:PUBLISH
X-WR-CALNAME:Festival of Chichester
X-ORIGINAL-URL:https://festivalofchichester.co.uk
X-WR-CALDESC:Events for Festival of Chichester
REFRESH-INTERVAL;VALUE=DURATION:PT1H
X-Robots-Tag:noindex
X-PUBLISHED-TTL:PT1H
BEGIN:VTIMEZONE
TZID:Europe/London
BEGIN:DAYLIGHT
TZOFFSETFROM:+0000
TZOFFSETTO:+0100
TZNAME:BST
DTSTART:20250330T010000
END:DAYLIGHT
BEGIN:STANDARD
TZOFFSETFROM:+0100
TZOFFSETTO:+0000
TZNAME:GMT
DTSTART:20251026T010000
END:STANDARD
BEGIN:DAYLIGHT
TZOFFSETFROM:+0000
TZOFFSETTO:+0100
TZNAME:BST
DTSTART:20260329T010000
END:DAYLIGHT
BEGIN:STANDARD
TZOFFSETFROM:+0100
TZOFFSETTO:+0000
TZNAME:GMT
DTSTART:20261025T010000
END:STANDARD
BEGIN:DAYLIGHT
TZOFFSETFROM:+0000
TZOFFSETTO:+0100
TZNAME:BST
DTSTART:20270328T010000
END:DAYLIGHT
BEGIN:STANDARD
TZOFFSETFROM:+0100
TZOFFSETTO:+0000
TZNAME:GMT
DTSTART:20271031T010000
END:STANDARD
END:VTIMEZONE
BEGIN:VEVENT
DTSTART;TZID=Europe/London:20260613T170000
DTEND;TZID=Europe/London:20260613T200000
DTSTAMP:20260425T113907
CREATED:20260227T134205Z
LAST-MODIFIED:20260409T103602Z
UID:10000710-1781370000-1781380800@festivalofchichester.co.uk
SUMMARY:Event WT01: Chichester Harbour Boat Trips
DESCRIPTION:Enjoy the beauty\, wildlife and tranquillity of Chichester Harbour on a trip aboard our solar-powered boat\, Solar Heritage. \nGlide across the water and enjoy stunning panoramic harbour views. Trips include seal safaris\, harbour discovery tours\, art workshops\, history trips\, and sunset sailings.
URL:https://festivalofchichester.co.uk/event/event-wt01-chichester-harbour-boat-trips/
LOCATION:Itchenor Harbour\, Harbour Office\, Itchenor\, PO20 7AW\, United Kingdom
CATEGORIES:Walk or tour
ATTACH;FMTTYPE=image/jpeg:https://festivalofchichester.co.uk/wp-content/uploads/2026/02/Solar-heritage-aeriel-4mb-scaled.jpg
ORGANIZER;CN="Chichester Harbour Conservancy":MAILTO:activities@conservancy.co.uk
END:VEVENT
END:VCALENDAR