BEGIN:VCALENDAR
VERSION:2.0
PRODID:-//Festival of Chichester - ECPv6.15.20//NONSGML v1.0//EN
CALSCALE:GREGORIAN
METHOD:PUBLISH
X-ORIGINAL-URL:https://festivalofchichester.co.uk
X-WR-CALDESC:Events for Festival of Chichester
REFRESH-INTERVAL;VALUE=DURATION:PT1H
X-Robots-Tag:noindex
X-PUBLISHED-TTL:PT1H
BEGIN:VTIMEZONE
TZID:Europe/London
BEGIN:DAYLIGHT
TZOFFSETFROM:+0000
TZOFFSETTO:+0100
TZNAME:BST
DTSTART:20250330T010000
END:DAYLIGHT
BEGIN:STANDARD
TZOFFSETFROM:+0100
TZOFFSETTO:+0000
TZNAME:GMT
DTSTART:20251026T010000
END:STANDARD
BEGIN:DAYLIGHT
TZOFFSETFROM:+0000
TZOFFSETTO:+0100
TZNAME:BST
DTSTART:20260329T010000
END:DAYLIGHT
BEGIN:STANDARD
TZOFFSETFROM:+0100
TZOFFSETTO:+0000
TZNAME:GMT
DTSTART:20261025T010000
END:STANDARD
BEGIN:DAYLIGHT
TZOFFSETFROM:+0000
TZOFFSETTO:+0100
TZNAME:BST
DTSTART:20270328T010000
END:DAYLIGHT
BEGIN:STANDARD
TZOFFSETFROM:+0100
TZOFFSETTO:+0000
TZNAME:GMT
DTSTART:20271031T010000
END:STANDARD
END:VTIMEZONE
BEGIN:VEVENT
DTSTART;TZID=Europe/London:20260627T110000
DTEND;TZID=Europe/London:20260627T114500
DTSTAMP:20260425T134341
CREATED:20260302T142323Z
LAST-MODIFIED:20260409T103556Z
UID:10000745-1782558000-1782560700@festivalofchichester.co.uk
SUMMARY:Event WT08: Textile Tour
DESCRIPTION:Explore the Cathedral’s rich textile heritage\, celebrating the 60th anniversary of the Piper Tapestry.\nBeyond this landmark work\, fibre art is everywhere throughout the building\, from Victorian embroideries to contemporary fibre art.
URL:https://festivalofchichester.co.uk/event/event-wt08-textile-tour/
LOCATION:Chichester Cathedral\, Chichester Cathedral\, Chichester\, West Sussex\, PO19 1PX\, United Kingdom
CATEGORIES:Walk or tour
ATTACH;FMTTYPE=image/jpeg:https://festivalofchichester.co.uk/wp-content/uploads/2026/03/Edited-077-scaled.jpg
END:VEVENT
END:VCALENDAR