BEGIN:VCALENDAR
VERSION:2.0
PRODID:-//Festival of Chichester - ECPv6.15.20//NONSGML v1.0//EN
CALSCALE:GREGORIAN
METHOD:PUBLISH
X-WR-CALNAME:Festival of Chichester
X-ORIGINAL-URL:https://festivalofchichester.co.uk
X-WR-CALDESC:Events for Festival of Chichester
REFRESH-INTERVAL;VALUE=DURATION:PT1H
X-Robots-Tag:noindex
X-PUBLISHED-TTL:PT1H
BEGIN:VTIMEZONE
TZID:Europe/London
BEGIN:DAYLIGHT
TZOFFSETFROM:+0000
TZOFFSETTO:+0100
TZNAME:BST
DTSTART:20250330T010000
END:DAYLIGHT
BEGIN:STANDARD
TZOFFSETFROM:+0100
TZOFFSETTO:+0000
TZNAME:GMT
DTSTART:20251026T010000
END:STANDARD
BEGIN:DAYLIGHT
TZOFFSETFROM:+0000
TZOFFSETTO:+0100
TZNAME:BST
DTSTART:20260329T010000
END:DAYLIGHT
BEGIN:STANDARD
TZOFFSETFROM:+0100
TZOFFSETTO:+0000
TZNAME:GMT
DTSTART:20261025T010000
END:STANDARD
BEGIN:DAYLIGHT
TZOFFSETFROM:+0000
TZOFFSETTO:+0100
TZNAME:BST
DTSTART:20270328T010000
END:DAYLIGHT
BEGIN:STANDARD
TZOFFSETFROM:+0100
TZOFFSETTO:+0000
TZNAME:GMT
DTSTART:20271031T010000
END:STANDARD
END:VTIMEZONE
BEGIN:VEVENT
DTSTART;TZID=Europe/London:20260711T123000
DTEND;TZID=Europe/London:20260711T140000
DTSTAMP:20260425T145549
CREATED:20260228T162530Z
LAST-MODIFIED:20260409T150344Z
UID:10000719-1783773000-1783778400@festivalofchichester.co.uk
SUMMARY:Event W08: Charlotte Hastings – Kitchen Therapy
DESCRIPTION:Join Charlotte Hastings\, educator\, psychotherapist and author of Kitchen Therapy – How To Become A Conscious Cook\, which explores the psycho-spiritual\, communal nature of food\, cooking and eating. \nIn this session\, a whole simple meal will be cooked together\, with an invitation to share stories\, memories\, ideas and dreams.
URL:https://festivalofchichester.co.uk/event/event-w08-charlotte-hastings-kitchen-therapy/
LOCATION:Old Court Room at  the Council House\, Chichester\, North St\,\, Chichester\, West Sussex\, PO19 1LQ\, United Kingdom
CATEGORIES:Workshop
ATTACH;FMTTYPE=image/png:https://festivalofchichester.co.uk/wp-content/uploads/2026/02/Charlotte-Hastings.png
ORGANIZER;CN="Ben Williams":MAILTO:benwilliams303@gmail.com
END:VEVENT
BEGIN:VEVENT
DTSTART;TZID=Europe/London:20260712T143000
DTEND;TZID=Europe/London:20260712T173000
DTSTAMP:20260425T145549
CREATED:20260316T113108Z
LAST-MODIFIED:20260409T103551Z
UID:10001148-1783866600-1783877400@festivalofchichester.co.uk
SUMMARY:Event W09: The Joy Frequency Experience! Raise your vibration workshop
DESCRIPTION:Don’t miss a transformative\, joyous workshop with Sound Alchemist and award-winning performer Amanda Waring and invited guest presenters from the United States\, including Connie Baxter Marlow and Andrew Cameron. Together\, they will raise your frequency by sharing sound healing\, consciousness-raising tools\, gentle movement\, and empowering dialogue. \nShifting Frequencies: Uplifting Into Trust and Joy \nStep into a powerful transformational experience inspired by the consciousness-expanding worldview of futurists and filmmakers Connie Baxter Marlow and Andrew Cameron Bailey\,  sharing their tools and vision of humanity rooted in trust\, collaboration\, compassion and LOVE. \nYou will be guided by Amanda Waring — Sound Healer\, IRT therapist \, Medicine Woman\, Poet\, through a profound sound journey where your subconscious and soul come into alignment. When your vibration rises\, your inner truth and joy awaken as we ride the waves of the Trust Frequency. Through sound\, presence\, reflection and embodied experience\, you will reconnect with the living intelligence of a Loving\, Conscious Universe and change your world for the better. Enjoy this enlightening journey into self-love\, purpose and courageous heart-led living. Truly an important workshop for now.
URL:https://festivalofchichester.co.uk/event/event-w09-the-joy-frequency-experience-raise-your-vibration-workshop/
LOCATION:Green Door Centre\, Bosham\, Bosham House\, Main Rd\, Bosham\, Chichester\, West Sussex\, PO18 8PJ\, United Kingdom
CATEGORIES:Workshop
ATTACH;FMTTYPE=image/jpeg:https://festivalofchichester.co.uk/wp-content/uploads/2026/03/Amanda-Waring-workshop-3.jpg
END:VEVENT
BEGIN:VEVENT
DTSTART;TZID=Europe/London:20260718T103000
DTEND;TZID=Europe/London:20260718T163000
DTSTAMP:20260425T145549
CREATED:20260227T120101Z
LAST-MODIFIED:20260409T103549Z
UID:10000697-1784370600-1784392200@festivalofchichester.co.uk
SUMMARY:Event W10: Chichester Collage Workshop
DESCRIPTION:Spend a creative day at The Novium Museum exploring Chichester’s historic architecture and creating your own collage artwork\, with guidance from local artist Sue Webber throughout. \nJoin us at The Novium Museum for a day of creativity inspired by the historic architecture in Chichester city centre. You’ll explore Chichester’s buildings – observing their lines\, textures and small details – and gather inspiration to create your own paper collage artwork. \nIn the morning\, we’ll take a gentle walk through the city centre\, sketching a selection of buildings and collecting ideas for your composition. If the weather is wet\, we can stay indoors and work from the views from Cathedral View. After lunch\, we’ll work in the Woolstaplers meeting room at The Novium Museum to turn your sketches into finished collages\, guided throughout by local artist Sue Webber. \nThe price includes collage materials\, sketchbook\, pencils and light refreshments (tea\, coffee and biscuits) – please bring a packed lunch.
URL:https://festivalofchichester.co.uk/event/event-w10-chichester-collage-workshop/
LOCATION:Novium Museum\, Chichester\, Tower St\, Chichester\, West Sussex\, PO19 1QH\, United Kingdom
CATEGORIES:Workshop
ATTACH;FMTTYPE=image/jpeg:https://festivalofchichester.co.uk/wp-content/uploads/2026/02/Novium_Chichester_Collage_Workshop.jpg
END:VEVENT
END:VCALENDAR