BEGIN:VCALENDAR
VERSION:2.0
PRODID:-//Festival of Chichester - ECPv6.15.20//NONSGML v1.0//EN
CALSCALE:GREGORIAN
METHOD:PUBLISH
X-WR-CALNAME:Festival of Chichester
X-ORIGINAL-URL:https://festivalofchichester.co.uk
X-WR-CALDESC:Events for Festival of Chichester
REFRESH-INTERVAL;VALUE=DURATION:PT1H
X-Robots-Tag:noindex
X-PUBLISHED-TTL:PT1H
BEGIN:VTIMEZONE
TZID:Europe/London
BEGIN:DAYLIGHT
TZOFFSETFROM:+0000
TZOFFSETTO:+0100
TZNAME:BST
DTSTART:20250330T010000
END:DAYLIGHT
BEGIN:STANDARD
TZOFFSETFROM:+0100
TZOFFSETTO:+0000
TZNAME:GMT
DTSTART:20251026T010000
END:STANDARD
BEGIN:DAYLIGHT
TZOFFSETFROM:+0000
TZOFFSETTO:+0100
TZNAME:BST
DTSTART:20260329T010000
END:DAYLIGHT
BEGIN:STANDARD
TZOFFSETFROM:+0100
TZOFFSETTO:+0000
TZNAME:GMT
DTSTART:20261025T010000
END:STANDARD
BEGIN:DAYLIGHT
TZOFFSETFROM:+0000
TZOFFSETTO:+0100
TZNAME:BST
DTSTART:20270328T010000
END:DAYLIGHT
BEGIN:STANDARD
TZOFFSETFROM:+0100
TZOFFSETTO:+0000
TZNAME:GMT
DTSTART:20271031T010000
END:STANDARD
END:VTIMEZONE
BEGIN:VEVENT
DTSTART;TZID=Europe/London:20260613T100000
DTEND;TZID=Europe/London:20260613T130000
DTSTAMP:20260425T113546
CREATED:20260228T160849Z
LAST-MODIFIED:20260409T150217Z
UID:10000723-1781344800-1781355600@festivalofchichester.co.uk
SUMMARY:Event W01: Photography workshop with Simon King
DESCRIPTION:Join professional photographer\, Simon King\, for a location-based photography workshop. \nDuring a walking trip around Chichester\, you will learn about framing\, exposure and other photography skills\, from photographing architecture to street photography. Bring your own camera or smartphone. \nSuitable for all levels of experience.
URL:https://festivalofchichester.co.uk/event/event-w01-photography-workshop-with-simon-king/
LOCATION:Assembly Room at the Council House\, Chichester\, The Council House\, North St\, Chichester\, West Sussex\, PO19 1LQ\, United Kingdom
CATEGORIES:Workshop
ATTACH;FMTTYPE=image/png:https://festivalofchichester.co.uk/wp-content/uploads/2026/02/Simon-King.png
ORGANIZER;CN="Ben Williams":MAILTO:benwilliams303@gmail.com
END:VEVENT
END:VCALENDAR