BEGIN:VCALENDAR
VERSION:2.0
PRODID:-//Festival of Chichester - ECPv6.15.20//NONSGML v1.0//EN
CALSCALE:GREGORIAN
METHOD:PUBLISH
X-WR-CALNAME:Festival of Chichester
X-ORIGINAL-URL:https://festivalofchichester.co.uk
X-WR-CALDESC:Events for Festival of Chichester
REFRESH-INTERVAL;VALUE=DURATION:PT1H
X-Robots-Tag:noindex
X-PUBLISHED-TTL:PT1H
BEGIN:VTIMEZONE
TZID:Europe/London
BEGIN:DAYLIGHT
TZOFFSETFROM:+0000
TZOFFSETTO:+0100
TZNAME:BST
DTSTART:20250330T010000
END:DAYLIGHT
BEGIN:STANDARD
TZOFFSETFROM:+0100
TZOFFSETTO:+0000
TZNAME:GMT
DTSTART:20251026T010000
END:STANDARD
BEGIN:DAYLIGHT
TZOFFSETFROM:+0000
TZOFFSETTO:+0100
TZNAME:BST
DTSTART:20260329T010000
END:DAYLIGHT
BEGIN:STANDARD
TZOFFSETFROM:+0100
TZOFFSETTO:+0000
TZNAME:GMT
DTSTART:20261025T010000
END:STANDARD
BEGIN:DAYLIGHT
TZOFFSETFROM:+0000
TZOFFSETTO:+0100
TZNAME:BST
DTSTART:20270328T010000
END:DAYLIGHT
BEGIN:STANDARD
TZOFFSETFROM:+0100
TZOFFSETTO:+0000
TZNAME:GMT
DTSTART:20271031T010000
END:STANDARD
END:VTIMEZONE
BEGIN:VEVENT
DTSTART;TZID=Europe/London:20260617T180000
DTEND;TZID=Europe/London:20260617T190000
DTSTAMP:20260425T132211
CREATED:20260130T123731Z
LAST-MODIFIED:20260409T103600Z
UID:10000665-1781719200-1781722800@festivalofchichester.co.uk
SUMMARY:Event W04: Improv Workshop with Chichester Improv and Drama
DESCRIPTION:If you loved drama at school or you are still practising or even just curious\, these one-hour taster workshops are for you\, designed to give your imagination a gentle work-out and remind you what it is to be playful. \nFlex your creative muscle and dare to take the plunge. These lively\, low-pressure workshops consist of a mix of spontaneous creative challenges and simple guided scenarios. Experience the mix of imagination\, risk and connection that improv brings. If you end up wanting more\, you can sign up for our weekly Wednesday evening workshops.
URL:https://festivalofchichester.co.uk/event/event-w04-improv-workshop-with-chichester-improv-and-drama/
LOCATION:Roussillion Park Community Hall\, Donegall Avenue\, Roussillion Park\, CHICHESTER\, West Sussex\, PO19 6DF\, United Kingdom
CATEGORIES:Workshop
ATTACH;FMTTYPE=image/png:https://festivalofchichester.co.uk/wp-content/uploads/2026/01/ChatGPT-Image-Jan-30-2026-12_36_41-PM.png
END:VEVENT
END:VCALENDAR