BEGIN:VCALENDAR
VERSION:2.0
PRODID:-//Festival of Chichester - ECPv6.15.20//NONSGML v1.0//EN
CALSCALE:GREGORIAN
METHOD:PUBLISH
X-ORIGINAL-URL:https://festivalofchichester.co.uk
X-WR-CALDESC:Events for Festival of Chichester
REFRESH-INTERVAL;VALUE=DURATION:PT1H
X-Robots-Tag:noindex
X-PUBLISHED-TTL:PT1H
BEGIN:VTIMEZONE
TZID:Europe/London
BEGIN:DAYLIGHT
TZOFFSETFROM:+0000
TZOFFSETTO:+0100
TZNAME:BST
DTSTART:20250330T010000
END:DAYLIGHT
BEGIN:STANDARD
TZOFFSETFROM:+0100
TZOFFSETTO:+0000
TZNAME:GMT
DTSTART:20251026T010000
END:STANDARD
BEGIN:DAYLIGHT
TZOFFSETFROM:+0000
TZOFFSETTO:+0100
TZNAME:BST
DTSTART:20260329T010000
END:DAYLIGHT
BEGIN:STANDARD
TZOFFSETFROM:+0100
TZOFFSETTO:+0000
TZNAME:GMT
DTSTART:20261025T010000
END:STANDARD
BEGIN:DAYLIGHT
TZOFFSETFROM:+0000
TZOFFSETTO:+0100
TZNAME:BST
DTSTART:20270328T010000
END:DAYLIGHT
BEGIN:STANDARD
TZOFFSETFROM:+0100
TZOFFSETTO:+0000
TZNAME:GMT
DTSTART:20271031T010000
END:STANDARD
END:VTIMEZONE
BEGIN:VEVENT
DTSTART;TZID=Europe/London:20260613T100000
DTEND;TZID=Europe/London:20260613T130000
DTSTAMP:20260422T203029
CREATED:20260228T160849Z
LAST-MODIFIED:20260409T150217Z
UID:10000723-1781344800-1781355600@festivalofchichester.co.uk
SUMMARY:Event W01: Photography workshop with Simon King
DESCRIPTION:Join professional photographer\, Simon King\, for a location-based photography workshop. \nDuring a walking trip around Chichester\, you will learn about framing\, exposure and other photography skills\, from photographing architecture to street photography. Bring your own camera or smartphone. \nSuitable for all levels of experience.
URL:https://festivalofchichester.co.uk/event/event-w01-photography-workshop-with-simon-king/
LOCATION:Assembly Room at the Council House\, Chichester\, The Council House\, North St\, Chichester\, West Sussex\, PO19 1LQ\, United Kingdom
CATEGORIES:Workshop
ATTACH;FMTTYPE=image/png:https://festivalofchichester.co.uk/wp-content/uploads/2026/02/Simon-King.png
ORGANIZER;CN="Ben Williams":MAILTO:benwilliams303@gmail.com
END:VEVENT
BEGIN:VEVENT
DTSTART;TZID=Europe/London:20260616T180000
DTEND;TZID=Europe/London:20260616T200000
DTSTAMP:20260422T203029
CREATED:20260228T161130Z
LAST-MODIFIED:20260409T103601Z
UID:10000749-1781632800-1781640000@festivalofchichester.co.uk
SUMMARY:Event C04: Future Chichester
DESCRIPTION:Do you have ideas for the future of Chichester?\nDo you have a vision for how we can move forward as a community? \nCome and contribute your ideas to the discussion and learn about plans for the regeneration of Chichester that other people and organisations are proposing.
URL:https://festivalofchichester.co.uk/event/event-c04-future-chichester/
LOCATION:Old Court Room at  the Council House\, Chichester\, North St\,\, Chichester\, West Sussex\, PO19 1LQ\, United Kingdom
CATEGORIES:Community
ATTACH;FMTTYPE=image/jpeg:https://festivalofchichester.co.uk/wp-content/uploads/2026/02/Cathedral-large.jpg
ORGANIZER;CN="Ben Williams":MAILTO:benwilliams303@gmail.com
END:VEVENT
BEGIN:VEVENT
DTSTART;TZID=Europe/London:20260618T190000
DTEND;TZID=Europe/London:20260618T210000
DTSTAMP:20260422T203029
CREATED:20260227T164550Z
LAST-MODIFIED:20260409T103559Z
UID:10000720-1781809200-1781816400@festivalofchichester.co.uk
SUMMARY:Event M08: Young-Choon Park\, Classical Pianist
DESCRIPTION:World-renowned pianist Young-Choon Park returns to Chichester for an evening of music\, including Mozart’s Sonata No.8 in A minor and Beethoven’s Pathétique. Young-Choon has played in the Birmingham Symphony Hall\, New York’s Lincoln Center and the Musikverein in Vienna. The event is kindly supported by the University of Chichester.
URL:https://festivalofchichester.co.uk/event/event-m08-young-choon-park-classical-pianist/
LOCATION:University Chapel (Chapel of the Ascension)\, College Ln\, Chichester\, West Sussex\, PO19 6PE\, United Kingdom
CATEGORIES:Music
ATTACH;FMTTYPE=image/png:https://festivalofchichester.co.uk/wp-content/uploads/2026/02/Young-Choon-Park.png
ORGANIZER;CN="Ben Williams":MAILTO:benwilliams303@gmail.com
END:VEVENT
BEGIN:VEVENT
DTSTART;TZID=Europe/London:20260619T193000
DTEND;TZID=Europe/London:20260619T203000
DTSTAMP:20260422T203029
CREATED:20260227T182315Z
LAST-MODIFIED:20260409T103559Z
UID:10000747-1781897400-1781901000@festivalofchichester.co.uk
SUMMARY:Event SW06: Yoga Talk with Fleur
DESCRIPTION:Fleur’s talk offers an introduction to the philosophical foundations of yoga\, as articulated in the Yoga Sutras of Patanjali. She will explore yoga beyond the Asana (postures) as a systematic path toward self-realisation\, examining the eight limbs as a framework for ethical living\, expanded awareness and inner liberation.
URL:https://festivalofchichester.co.uk/event/event-sw06-yoga-talk-with-fleur/
LOCATION:Lano Yoga\, 2nd Floor\, 1 Old Market Avenue\, Chichester\, West Sussex\, PO19 1SP\, United Kingdom
CATEGORIES:Spoken word
ATTACH;FMTTYPE=image/jpeg:https://festivalofchichester.co.uk/wp-content/uploads/2026/02/Fleur-headshot-2025-scaled.jpg
ORGANIZER;CN="Ben Williams":MAILTO:benwilliams303@gmail.com
END:VEVENT
BEGIN:VEVENT
DTSTART;TZID=Europe/London:20260620T150000
DTEND;TZID=Europe/London:20260620T161500
DTSTAMP:20260422T203029
CREATED:20260227T185717Z
LAST-MODIFIED:20260409T103559Z
UID:10000718-1781967600-1781972100@festivalofchichester.co.uk
SUMMARY:Event W06: LANO Sound Bath with Ayumi
DESCRIPTION:Begin with simple guided breathwork and intention setting accompanied by Tibetan bowls and soothing instruments to settle deeply into the present moment. Then enter deep relaxation with gongs\, crystal bowls\, drums and chimes. \nThe vibrations create an immersive soundscape to quiet the mind\, calm the nervous system and encourage restoration.
URL:https://festivalofchichester.co.uk/event/event-w06-lano-sound-bath-with-ayumi/
LOCATION:Lano Yoga\, 2nd Floor\, 1 Old Market Avenue\, Chichester\, West Sussex\, PO19 1SP\, United Kingdom
CATEGORIES:Workshop
ATTACH;FMTTYPE=image/png:https://festivalofchichester.co.uk/wp-content/uploads/2026/02/Ayumi.png
ORGANIZER;CN="Ben Williams":MAILTO:benwilliams303@gmail.com
END:VEVENT
BEGIN:VEVENT
DTSTART;TZID=Europe/London:20260701T180000
DTEND;TZID=Europe/London:20260701T200000
DTSTAMP:20260422T203029
CREATED:20260228T161634Z
LAST-MODIFIED:20260409T150435Z
UID:10000728-1782928800-1782936000@festivalofchichester.co.uk
SUMMARY:Event SW15: Jenny Andersson – Centres For Life
DESCRIPTION:Jenny Andersson returns to talk about her study for the Joseph Rowntree Foundation\, how Centres For Life can help revitalise and regenerate places\, followed by a collective exploration of the regenerative horizon for Chichester. Questions like what are Centres For Life and why are they important will be explored. \nJenny Andersson\, of Really Regenerative CIC\, returns to help us explore how Centres For Life can help revitalise\, regenerate and renew vibrancy in urban and rural places. What are Centres For Life? Why are they important? What’s their role in shaping the future? How do they form? What do they look like? Do we have any in Chichester that can energise our culture\, economy and ecology? All these questions and more will be explored. \nReally Regenerative’s founder Jenny Andersson will give a short talk on Centres For Life from her published study for Joseph Rowntree Foundation – Enabling Conditions for Place-Based Community-Led Regeneration\, followed by a collective exploration with attendees of what’s on the future regenerative horizon for Chichester. We’ll work in groups to explore key questions about the future. What Centres do we need\, do we want and how can we bring them to life? What do we already have that we could build on? How ready are we in Chichester to bring these Centres to life; what strengths do we have\, what’s missing from our capabilities\, what are our best opportunities and what other projects could inspire us? How could such Centres be funded\, financed and supported? \nJoin us for a vitalising exploration of how Centres For Life underpin the potential for regenerative futures in Chichester.
URL:https://festivalofchichester.co.uk/event/event-sw15-jenny-andersson-centres-for-life/
LOCATION:Old Court Room at  the Council House\, Chichester\, North St\,\, Chichester\, West Sussex\, PO19 1LQ\, United Kingdom
CATEGORIES:Spoken word
ATTACH;FMTTYPE=image/png:https://festivalofchichester.co.uk/wp-content/uploads/2026/02/Jenny_Bilbaotalk-large.png
ORGANIZER;CN="Ben Williams":MAILTO:benwilliams303@gmail.com
END:VEVENT
BEGIN:VEVENT
DTSTART;TZID=Europe/London:20260711T123000
DTEND;TZID=Europe/London:20260711T140000
DTSTAMP:20260422T203029
CREATED:20260228T162530Z
LAST-MODIFIED:20260409T150344Z
UID:10000719-1783773000-1783778400@festivalofchichester.co.uk
SUMMARY:Event W08: Charlotte Hastings – Kitchen Therapy
DESCRIPTION:Join Charlotte Hastings\, educator\, psychotherapist and author of Kitchen Therapy – How To Become A Conscious Cook\, which explores the psycho-spiritual\, communal nature of food\, cooking and eating. \nIn this session\, a whole simple meal will be cooked together\, with an invitation to share stories\, memories\, ideas and dreams.
URL:https://festivalofchichester.co.uk/event/event-w08-charlotte-hastings-kitchen-therapy/
LOCATION:Old Court Room at  the Council House\, Chichester\, North St\,\, Chichester\, West Sussex\, PO19 1LQ\, United Kingdom
CATEGORIES:Workshop
ATTACH;FMTTYPE=image/png:https://festivalofchichester.co.uk/wp-content/uploads/2026/02/Charlotte-Hastings.png
ORGANIZER;CN="Ben Williams":MAILTO:benwilliams303@gmail.com
END:VEVENT
BEGIN:VEVENT
DTSTART;TZID=Europe/London:20260711T200000
DTEND;TZID=Europe/London:20260711T220000
DTSTAMP:20260422T203029
CREATED:20260228T165756Z
LAST-MODIFIED:20260409T103551Z
UID:10000757-1783800000-1783807200@festivalofchichester.co.uk
SUMMARY:Event M46: Experiment
DESCRIPTION:An evening of contemporary electronic and live music accompanied by immersive art installations. \nThis event is hosted by the Chichester Creative Partnership as part of the Metanoia Series to provide a platform for established and emerging local performers and artists. \nFree entry.
URL:https://festivalofchichester.co.uk/event/event-m46-experiment/
LOCATION:Old Court Room at  the Council House\, Chichester\, North St\,\, Chichester\, West Sussex\, PO19 1LQ\, United Kingdom
CATEGORIES:Music
ATTACH;FMTTYPE=image/png:https://festivalofchichester.co.uk/wp-content/uploads/2026/02/Experiment-large.png
ORGANIZER;CN="Ben Williams":MAILTO:benwilliams303@gmail.com
END:VEVENT
BEGIN:VEVENT
DTSTART;TZID=Europe/London:20260716T180000
DTEND;TZID=Europe/London:20260716T200000
DTSTAMP:20260422T203029
CREATED:20260228T162011Z
LAST-MODIFIED:20260409T103550Z
UID:10000758-1784224800-1784232000@festivalofchichester.co.uk
SUMMARY:Event C09: Creative Chichester
DESCRIPTION:A series of community-owned ventures is proposed by The Chichester Creative Partnership to support the creative industries in the area. \nThe Partnership is a not-for-profit organisation formed of\, and advocates for\, the creative industries in the area. Come along to find out how you can be involved in their projects.
URL:https://festivalofchichester.co.uk/event/event-c09-creative-chichester/
LOCATION:Old Court Room at  the Council House\, Chichester\, North St\,\, Chichester\, West Sussex\, PO19 1LQ\, United Kingdom
CATEGORIES:Community
ATTACH;FMTTYPE=image/png:https://festivalofchichester.co.uk/wp-content/uploads/2026/02/Creative-Chichester.png
ORGANIZER;CN="Ben Williams":MAILTO:benwilliams303@gmail.com
END:VEVENT
BEGIN:VEVENT
DTSTART;TZID=Europe/London:20260719T130000
DTEND;TZID=Europe/London:20260719T170000
DTSTAMP:20260422T203029
CREATED:20260228T162911Z
LAST-MODIFIED:20260409T103548Z
UID:10000759-1784466000-1784480400@festivalofchichester.co.uk
SUMMARY:Event C10: A Celebration of Chichester’s Amphitheatre
DESCRIPTION:The Whyke Residents Association presents a celebration of Chichester’s amphitheatre through time. \nOnly discovered in 1935\, a 1st-century Roman amphitheatre on this site would have hosted gladiators and plays. Come and join us for an afternoon of music\, crafts\, food and entertainment\, to celebrate the history of the amphitheatre.
URL:https://festivalofchichester.co.uk/event/event-c10-a-celebration-of-chichesters-amphitheatre/
LOCATION:Amphitheatre Park\, Whyke Lane\, Chichester\, West Sussex\, PO19 7UR\, United Kingdom
CATEGORIES:Community
ATTACH;FMTTYPE=image/jpeg:https://festivalofchichester.co.uk/wp-content/uploads/2026/02/Amphitheatre.jpg
ORGANIZER;CN="Ben Williams":MAILTO:benwilliams303@gmail.com
END:VEVENT
END:VCALENDAR